BEGIN:VCALENDAR
VERSION:2.0
PRODID:-//Castle in the Clouds - ECPv6.15.18//NONSGML v1.0//EN
CALSCALE:GREGORIAN
METHOD:PUBLISH
X-ORIGINAL-URL:https://www.castleintheclouds.org
X-WR-CALDESC:Events for Castle in the Clouds
REFRESH-INTERVAL;VALUE=DURATION:PT1H
X-Robots-Tag:noindex
X-PUBLISHED-TTL:PT1H
BEGIN:VTIMEZONE
TZID:America/New_York
BEGIN:DAYLIGHT
TZOFFSETFROM:-0500
TZOFFSETTO:-0400
TZNAME:EDT
DTSTART:20240310T070000
END:DAYLIGHT
BEGIN:STANDARD
TZOFFSETFROM:-0400
TZOFFSETTO:-0500
TZNAME:EST
DTSTART:20241103T060000
END:STANDARD
BEGIN:DAYLIGHT
TZOFFSETFROM:-0500
TZOFFSETTO:-0400
TZNAME:EDT
DTSTART:20250309T070000
END:DAYLIGHT
BEGIN:STANDARD
TZOFFSETFROM:-0400
TZOFFSETTO:-0500
TZNAME:EST
DTSTART:20251102T060000
END:STANDARD
BEGIN:DAYLIGHT
TZOFFSETFROM:-0500
TZOFFSETTO:-0400
TZNAME:EDT
DTSTART:20260308T070000
END:DAYLIGHT
BEGIN:STANDARD
TZOFFSETFROM:-0400
TZOFFSETTO:-0500
TZNAME:EST
DTSTART:20261101T060000
END:STANDARD
END:VTIMEZONE
BEGIN:VEVENT
DTSTART;TZID=America/New_York:20250622T110000
DTEND;TZID=America/New_York:20250622T160000
DTSTAMP:20260424T050027
CREATED:20250318T153726Z
LAST-MODIFIED:20260315T043453Z
UID:10004834-1750590000-1750608000@www.castleintheclouds.org
SUMMARY:Solar Gazing 2025
DESCRIPTION:Disobey your mother and look at the sun…through a hydrogen-alpha telescope! Each Sunday\, members of the NH Astronomical Society set up their telescopes in the field by Shannon Pond. Drop by and speak with the astronomers\, learn about the sun\, and try out their telescopes anytime between 11:00 am and 4:00 pm. \nSolar Gazing requires clear skies. In the event that it is raining or overcast\, there will be an opportunity to chat with the astronomers in the Winnipesaukee Room on the second floor of the Carriage House instead. \nThis is a free program and registration is encouraged but not required.
URL:https://www.castleintheclouds.org/event/solar-gazing-2025/2025-06-22/
CATEGORIES:Outdoors,Solar Gazing
ATTACH;FMTTYPE=image/jpeg:https://www.castleintheclouds.org/wp-content/uploads/2020/04/Solar-Gazing.jpg
END:VEVENT
BEGIN:VEVENT
DTSTART;TZID=America/New_York:20250622T120000
DTEND;TZID=America/New_York:20250622T140000
DTSTAMP:20260424T050027
CREATED:20250317T190927Z
LAST-MODIFIED:20260315T054326Z
UID:10004802-1750593600-1750600800@www.castleintheclouds.org
SUMMARY:Watercolor Workshop 2025
DESCRIPTION:Join us for an afternoon of watercolor painting at one of the most beautiful locations in New Hampshire! \nThis workshop\, led by our experienced instructor Pat Edsall\, is perfect for all experience levels. Whether you are a beginner artist or have experience painting with watercolor\, there is always something new to learn. This is an opportunity to paint from a new point of view and learn new techniques. \nWe will work with professional transparent pigments and beautiful 100% cotton paper. If you wish\, bring your favorite brushes\, but all necessary supplies will be provided. Invite your friends\, or come meet new artists! \nThis class is intended for adults. Space is limited to 10 people in order to give Pat a chance to work with all the participants. Register today to reserve your seat! \nAll ticket sales are final; no refunds\, transfers to other days\, or exchanges.
URL:https://www.castleintheclouds.org/event/watercolor-workshop-2025/2025-06-22/
CATEGORIES:Arts,Education,Watercolor Workshop
ATTACH;FMTTYPE=image/jpeg:https://www.castleintheclouds.org/wp-content/uploads/2023/07/Watercolor_Evt_banner_4621.jpg
END:VEVENT
BEGIN:VEVENT
DTSTART;TZID=America/New_York:20250623T110000
DTEND;TZID=America/New_York:20250623T120000
DTSTAMP:20260424T050027
CREATED:20250225T204514Z
LAST-MODIFIED:20250304T003918Z
UID:10004656-1750676400-1750680000@www.castleintheclouds.org
SUMMARY:Story Time and Craft Hour
DESCRIPTION:Castle in the Clouds is partnering with the Moultonborough Public Library to bring you Story Time and Craft Hour at Castle in the Clouds! \nJoin us on Mondays throughout the summer to hear stories relating to a different theme each week\, followed by a guided craft project. \nThis program will be held at the picnic pavilions near Shannon Pond. In case of inclement weather\, it will be moved to the Winnipesaukee Room on the second floor of the Carriage House. \nThis is a free program and registration is encouraged\, as it helps us plan craft supplies\, but is not required.
URL:https://www.castleintheclouds.org/event/story-time-and-craft-hour-2025/2025-06-23/
CATEGORIES:Arts,Story Time and Craft Hour
ATTACH;FMTTYPE=image/jpeg:https://www.castleintheclouds.org/wp-content/uploads/2024/05/Shannon-Pond.jpg
END:VEVENT
BEGIN:VEVENT
DTSTART;TZID=America/New_York:20250623T173000
DTEND;TZID=America/New_York:20250623T200000
DTSTAMP:20260424T050027
CREATED:20250516T174124Z
LAST-MODIFIED:20250516T174124Z
UID:10005766-1750699800-1750708800@www.castleintheclouds.org
SUMMARY:Music Nights
DESCRIPTION:
URL:https://www.castleintheclouds.org/event/music-nights/2025-06-23/
CATEGORIES:Music Nights
END:VEVENT
BEGIN:VEVENT
DTSTART;TZID=America/New_York:20250624T173000
DTEND;TZID=America/New_York:20250624T200000
DTSTAMP:20260424T050027
CREATED:20250516T174124Z
LAST-MODIFIED:20250516T174124Z
UID:10005767-1750786200-1750795200@www.castleintheclouds.org
SUMMARY:Music Nights
DESCRIPTION:
URL:https://www.castleintheclouds.org/event/music-nights/2025-06-24/
CATEGORIES:Music Nights
END:VEVENT
BEGIN:VEVENT
DTSTART;TZID=America/New_York:20250625T173000
DTEND;TZID=America/New_York:20250625T200000
DTSTAMP:20260424T050027
CREATED:20250516T174124Z
LAST-MODIFIED:20250516T174124Z
UID:10005768-1750872600-1750881600@www.castleintheclouds.org
SUMMARY:Music Nights
DESCRIPTION:
URL:https://www.castleintheclouds.org/event/music-nights/2025-06-25/
CATEGORIES:Music Nights
END:VEVENT
BEGIN:VEVENT
DTSTART;TZID=America/New_York:20250626T130000
DTEND;TZID=America/New_York:20250626T143000
DTSTAMP:20260424T050027
CREATED:20250317T192908Z
LAST-MODIFIED:20250318T132544Z
UID:10004806-1750942800-1750948200@www.castleintheclouds.org
SUMMARY:Volcanoes and Cellar Holes: the History of the Land
DESCRIPTION:Join us for a walk on the property surrounding the Castle to discover how nature and people have shaped it throughout the years!  We’ll discuss the site’s long history\, from its geological activity 100 million years ago\, the historic cellar holes surrounding the estate\, Tom and Olive Plant’s transformations\, and the current stewardship of the almost 5\,000 acres surrounding the Castle. \nPlease be aware that this tour will last approximately 90 minute and involves walking outdoors\, including slight inclines and uneven ground. Please wear appropriate footwear\, dress for the weather\, and bring sunscreen and bug spray as desired. \nAll ticket sales are final; no refunds\, transfers to other days\, or exchanges.
URL:https://www.castleintheclouds.org/event/volcanoes-and-cellar-holes-the-history-of-the-land/2025-06-26/
CATEGORIES:Outdoors,Tours,Volcanoes and Cellar Holes: the History of Ossipee Park
END:VEVENT
BEGIN:VEVENT
DTSTART;TZID=America/New_York:20250628T090000
DTEND;TZID=America/New_York:20250628T130000
DTSTAMP:20260424T050027
CREATED:20250407T180750Z
LAST-MODIFIED:20250626T144500Z
UID:10005692-1751101200-1751115600@www.castleintheclouds.org
SUMMARY:CANCELLED - ArtWorks: Garden Photography Workshop
DESCRIPTION:
URL:##new_tab
CATEGORIES:Arts
END:VEVENT
BEGIN:VEVENT
DTSTART;TZID=America/New_York:20250629T110000
DTEND;TZID=America/New_York:20250629T150000
DTSTAMP:20260424T050027
CREATED:20250515T011001Z
LAST-MODIFIED:20250515T011001Z
UID:10005803-1751194800-1751209200@www.castleintheclouds.org
SUMMARY:Expert Exchanges: Furniture
DESCRIPTION:
URL:https://www.castleintheclouds.org/event/expert-exchanges-furniture/2025-06-29/
CATEGORIES:Expert Exchanges: Furniture
END:VEVENT
BEGIN:VEVENT
DTSTART;TZID=America/New_York:20250629T110000
DTEND;TZID=America/New_York:20250629T160000
DTSTAMP:20260424T050027
CREATED:20250318T153726Z
LAST-MODIFIED:20260315T043453Z
UID:10004835-1751194800-1751212800@www.castleintheclouds.org
SUMMARY:Solar Gazing 2025
DESCRIPTION:Disobey your mother and look at the sun…through a hydrogen-alpha telescope! Each Sunday\, members of the NH Astronomical Society set up their telescopes in the field by Shannon Pond. Drop by and speak with the astronomers\, learn about the sun\, and try out their telescopes anytime between 11:00 am and 4:00 pm. \nSolar Gazing requires clear skies. In the event that it is raining or overcast\, there will be an opportunity to chat with the astronomers in the Winnipesaukee Room on the second floor of the Carriage House instead. \nThis is a free program and registration is encouraged but not required.
URL:https://www.castleintheclouds.org/event/solar-gazing-2025/2025-06-29/
CATEGORIES:Outdoors,Solar Gazing
ATTACH;FMTTYPE=image/jpeg:https://www.castleintheclouds.org/wp-content/uploads/2020/04/Solar-Gazing.jpg
END:VEVENT
BEGIN:VEVENT
DTSTART;TZID=America/New_York:20250630T110000
DTEND;TZID=America/New_York:20250630T120000
DTSTAMP:20260424T050027
CREATED:20250225T204514Z
LAST-MODIFIED:20250304T003918Z
UID:10004657-1751281200-1751284800@www.castleintheclouds.org
SUMMARY:Story Time and Craft Hour
DESCRIPTION:Castle in the Clouds is partnering with the Moultonborough Public Library to bring you Story Time and Craft Hour at Castle in the Clouds! \nJoin us on Mondays throughout the summer to hear stories relating to a different theme each week\, followed by a guided craft project. \nThis program will be held at the picnic pavilions near Shannon Pond. In case of inclement weather\, it will be moved to the Winnipesaukee Room on the second floor of the Carriage House. \nThis is a free program and registration is encouraged\, as it helps us plan craft supplies\, but is not required.
URL:https://www.castleintheclouds.org/event/story-time-and-craft-hour-2025/2025-06-30/
CATEGORIES:Arts,Story Time and Craft Hour
ATTACH;FMTTYPE=image/jpeg:https://www.castleintheclouds.org/wp-content/uploads/2024/05/Shannon-Pond.jpg
END:VEVENT
BEGIN:VEVENT
DTSTART;TZID=America/New_York:20250630T173000
DTEND;TZID=America/New_York:20250630T200000
DTSTAMP:20260424T050027
CREATED:20250629T151628Z
LAST-MODIFIED:20250629T151655Z
UID:10005769-1751304600-1751313600@www.castleintheclouds.org
SUMMARY:Music Nights – SOLD OUT
DESCRIPTION:
URL:https://www.castleintheclouds.org/event/music-nights-4/
CATEGORIES:Music Nights
END:VEVENT
BEGIN:VEVENT
DTSTART;TZID=America/New_York:20250701T173000
DTEND;TZID=America/New_York:20250701T200000
DTSTAMP:20260424T050027
CREATED:20250516T174124Z
LAST-MODIFIED:20250516T174124Z
UID:10005770-1751391000-1751400000@www.castleintheclouds.org
SUMMARY:Music Nights
DESCRIPTION:
URL:https://www.castleintheclouds.org/event/music-nights/2025-07-01/
CATEGORIES:Music Nights
END:VEVENT
BEGIN:VEVENT
DTSTART;TZID=America/New_York:20250702T173000
DTEND;TZID=America/New_York:20250702T200000
DTSTAMP:20260424T050027
CREATED:20250629T151713Z
LAST-MODIFIED:20250629T151720Z
UID:10005771-1751477400-1751486400@www.castleintheclouds.org
SUMMARY:Music Nights – SOLD OUT
DESCRIPTION:
URL:https://www.castleintheclouds.org/event/music-nights-5/
CATEGORIES:Music Nights
END:VEVENT
BEGIN:VEVENT
DTSTART;TZID=America/New_York:20250703T170000
DTEND;TZID=America/New_York:20250703T183000
DTSTAMP:20260424T050027
CREATED:20250514T154459Z
LAST-MODIFIED:20250514T154459Z
UID:10005800-1751562000-1751567400@www.castleintheclouds.org
SUMMARY:Furniture Masters: Exhibit Opening
DESCRIPTION:
URL:https://www.castleintheclouds.org/event/furniture-masters-exhibit-opening/2025-07-03/
CATEGORIES:Furniture Masters: Exhibit Opening
END:VEVENT
BEGIN:VEVENT
DTSTART;TZID=America/New_York:20250704T101500
DTEND;TZID=America/New_York:20250704T111500
DTSTAMP:20260424T050027
CREATED:20250304T000837Z
LAST-MODIFIED:20250903T154227Z
UID:10004765-1751624100-1751627700@www.castleintheclouds.org
SUMMARY:Lucknow Garden Tour
DESCRIPTION:Join our head gardener\, Gretchen Large\, in touring Lucknow’s garden landscapes\, and pick up some gardening tips and tricks for you to use at home!  Gretchen is excited to share with you her passion for gardening\, which is displayed in the beautiful and thoughtfully designed outdoor spaces surrounding the Castle. She even has her own business called The Random Gardener! \nThe gardens are constantly changing throughout the season\, and no two tours are the same. We invite you to come back multiple times – there is always something new to see! \nThis tour includes walking through our gardens. Please dress for the weather and wear appropriate footwear. \nPlease arrive five minutes early to check in at the Carriage House. Froma there\, you will be transported up to Lucknow Mansion for the tour.  \nAll ticket sales are final; no refunds\, transfers to other days\, or exchanges. 
URL:https://www.castleintheclouds.org/event/lucknow-garden-tour-2/2025-07-04/
CATEGORIES:Education,Lucknow Garden Tour,Outdoors,Tours
END:VEVENT
BEGIN:VEVENT
DTSTART;TZID=America/New_York:20250705T100000
DTEND;TZID=America/New_York:20250705T113000
DTSTAMP:20260424T050027
CREATED:20250323T172803Z
LAST-MODIFIED:20250325T215720Z
UID:10005590-1751709600-1751715000@www.castleintheclouds.org
SUMMARY:History of Herbs: Indigenous and Folk Traditions
DESCRIPTION:Explore the historical uses of local plants and learn how you can incorporate them into your life today! Join author Mj Pettengill as she discusses the Abenaki and settler communities in New Hampshire and their relationship to the resources around them. Native plants played a role in survival in New Hampshire’s challenging landscape. Herbalists were key figures in helping communities survive the rugged conditions and adapt to the changing seasons with resilience. Additionally\, you’ll discover the wild herbs that still grow in New Hampshire today and learn how you can incorporate them into your own life for health and wellness. \nIf the weather cooperates\, this program will involve easy walking with frequent stops. Dress for the weather and wear appropriate footwear. You might consider bringing a hat\, bug repellent\, and a small cushion to sit on.
URL:https://www.castleintheclouds.org/event/history-of-herbs-indigenous-and-folk-traditions/
CATEGORIES:Education,Outdoors
END:VEVENT
BEGIN:VEVENT
DTSTART;TZID=America/New_York:20250706T110000
DTEND;TZID=America/New_York:20250706T160000
DTSTAMP:20260424T050027
CREATED:20250318T153726Z
LAST-MODIFIED:20260315T043453Z
UID:10004836-1751799600-1751817600@www.castleintheclouds.org
SUMMARY:Solar Gazing 2025
DESCRIPTION:Disobey your mother and look at the sun…through a hydrogen-alpha telescope! Each Sunday\, members of the NH Astronomical Society set up their telescopes in the field by Shannon Pond. Drop by and speak with the astronomers\, learn about the sun\, and try out their telescopes anytime between 11:00 am and 4:00 pm. \nSolar Gazing requires clear skies. In the event that it is raining or overcast\, there will be an opportunity to chat with the astronomers in the Winnipesaukee Room on the second floor of the Carriage House instead. \nThis is a free program and registration is encouraged but not required.
URL:https://www.castleintheclouds.org/event/solar-gazing-2025/2025-07-06/
CATEGORIES:Outdoors,Solar Gazing
ATTACH;FMTTYPE=image/jpeg:https://www.castleintheclouds.org/wp-content/uploads/2020/04/Solar-Gazing.jpg
END:VEVENT
BEGIN:VEVENT
DTSTART;TZID=America/New_York:20250707T110000
DTEND;TZID=America/New_York:20250707T120000
DTSTAMP:20260424T050027
CREATED:20250225T204514Z
LAST-MODIFIED:20250304T003918Z
UID:10004658-1751886000-1751889600@www.castleintheclouds.org
SUMMARY:Story Time and Craft Hour
DESCRIPTION:Castle in the Clouds is partnering with the Moultonborough Public Library to bring you Story Time and Craft Hour at Castle in the Clouds! \nJoin us on Mondays throughout the summer to hear stories relating to a different theme each week\, followed by a guided craft project. \nThis program will be held at the picnic pavilions near Shannon Pond. In case of inclement weather\, it will be moved to the Winnipesaukee Room on the second floor of the Carriage House. \nThis is a free program and registration is encouraged\, as it helps us plan craft supplies\, but is not required.
URL:https://www.castleintheclouds.org/event/story-time-and-craft-hour-2025/2025-07-07/
CATEGORIES:Arts,Story Time and Craft Hour
ATTACH;FMTTYPE=image/jpeg:https://www.castleintheclouds.org/wp-content/uploads/2024/05/Shannon-Pond.jpg
END:VEVENT
BEGIN:VEVENT
DTSTART;TZID=America/New_York:20250707T173000
DTEND;TZID=America/New_York:20250707T200000
DTSTAMP:20260424T050027
CREATED:20250624T013457Z
LAST-MODIFIED:20250703T162758Z
UID:10005772-1751909400-1751918400@www.castleintheclouds.org
SUMMARY:Music Nights - SOLD OUT
DESCRIPTION:
URL:https://www.castleintheclouds.org/event/music-nights-2/
CATEGORIES:Music Nights,Outdoors
END:VEVENT
BEGIN:VEVENT
DTSTART;TZID=America/New_York:20250708T173000
DTEND;TZID=America/New_York:20250708T200000
DTSTAMP:20260424T050027
CREATED:20250624T013658Z
LAST-MODIFIED:20250703T175303Z
UID:10005773-1751995800-1752004800@www.castleintheclouds.org
SUMMARY:Music Nights - SOLD OUT
DESCRIPTION:
URL:https://www.castleintheclouds.org/event/music-nights-3/
CATEGORIES:Music Nights,Outdoors
END:VEVENT
BEGIN:VEVENT
DTSTART;TZID=America/New_York:20250709T173000
DTEND;TZID=America/New_York:20250709T200000
DTSTAMP:20260424T050027
CREATED:20250516T174124Z
LAST-MODIFIED:20250516T174124Z
UID:10005774-1752082200-1752091200@www.castleintheclouds.org
SUMMARY:Music Nights
DESCRIPTION:
URL:https://www.castleintheclouds.org/event/music-nights/2025-07-09/
CATEGORIES:Music Nights
END:VEVENT
BEGIN:VEVENT
DTSTART;TZID=America/New_York:20250710T130000
DTEND;TZID=America/New_York:20250710T143000
DTSTAMP:20260424T050027
CREATED:20250317T192908Z
LAST-MODIFIED:20250318T132544Z
UID:10004807-1752152400-1752157800@www.castleintheclouds.org
SUMMARY:Volcanoes and Cellar Holes: the History of the Land
DESCRIPTION:Join us for a walk on the property surrounding the Castle to discover how nature and people have shaped it throughout the years!  We’ll discuss the site’s long history\, from its geological activity 100 million years ago\, the historic cellar holes surrounding the estate\, Tom and Olive Plant’s transformations\, and the current stewardship of the almost 5\,000 acres surrounding the Castle. \nPlease be aware that this tour will last approximately 90 minute and involves walking outdoors\, including slight inclines and uneven ground. Please wear appropriate footwear\, dress for the weather\, and bring sunscreen and bug spray as desired. \nAll ticket sales are final; no refunds\, transfers to other days\, or exchanges.
URL:https://www.castleintheclouds.org/event/volcanoes-and-cellar-holes-the-history-of-the-land/2025-07-10/
CATEGORIES:Outdoors,Tours,Volcanoes and Cellar Holes: the History of Ossipee Park
END:VEVENT
BEGIN:VEVENT
DTSTART;TZID=America/New_York:20250712T193000
DTEND;TZID=America/New_York:20250712T193000
DTSTAMP:20260424T050027
CREATED:20250428T235403Z
LAST-MODIFIED:20250429T144930Z
UID:10005727-1752348600-1752348600@www.castleintheclouds.org
SUMMARY:Human Nature - Back to the Sound of MOTOWN at Great Waters
DESCRIPTION:
URL:https://greatwaters.org/entertainment/#new_tab
ATTACH;FMTTYPE=image/jpeg:https://www.castleintheclouds.org/wp-content/uploads/2025/04/human-nature-motown.jpg
END:VEVENT
BEGIN:VEVENT
DTSTART;TZID=America/New_York:20250713T110000
DTEND;TZID=America/New_York:20250713T160000
DTSTAMP:20260424T050027
CREATED:20250318T153726Z
LAST-MODIFIED:20260315T043453Z
UID:10004837-1752404400-1752422400@www.castleintheclouds.org
SUMMARY:Solar Gazing 2025
DESCRIPTION:Disobey your mother and look at the sun…through a hydrogen-alpha telescope! Each Sunday\, members of the NH Astronomical Society set up their telescopes in the field by Shannon Pond. Drop by and speak with the astronomers\, learn about the sun\, and try out their telescopes anytime between 11:00 am and 4:00 pm. \nSolar Gazing requires clear skies. In the event that it is raining or overcast\, there will be an opportunity to chat with the astronomers in the Winnipesaukee Room on the second floor of the Carriage House instead. \nThis is a free program and registration is encouraged but not required.
URL:https://www.castleintheclouds.org/event/solar-gazing-2025/2025-07-13/
CATEGORIES:Outdoors,Solar Gazing
ATTACH;FMTTYPE=image/jpeg:https://www.castleintheclouds.org/wp-content/uploads/2020/04/Solar-Gazing.jpg
END:VEVENT
BEGIN:VEVENT
DTSTART;TZID=America/New_York:20250714T110000
DTEND;TZID=America/New_York:20250714T120000
DTSTAMP:20260424T050027
CREATED:20250225T204514Z
LAST-MODIFIED:20250304T003918Z
UID:10004659-1752490800-1752494400@www.castleintheclouds.org
SUMMARY:Story Time and Craft Hour
DESCRIPTION:Castle in the Clouds is partnering with the Moultonborough Public Library to bring you Story Time and Craft Hour at Castle in the Clouds! \nJoin us on Mondays throughout the summer to hear stories relating to a different theme each week\, followed by a guided craft project. \nThis program will be held at the picnic pavilions near Shannon Pond. In case of inclement weather\, it will be moved to the Winnipesaukee Room on the second floor of the Carriage House. \nThis is a free program and registration is encouraged\, as it helps us plan craft supplies\, but is not required.
URL:https://www.castleintheclouds.org/event/story-time-and-craft-hour-2025/2025-07-14/
CATEGORIES:Arts,Story Time and Craft Hour
ATTACH;FMTTYPE=image/jpeg:https://www.castleintheclouds.org/wp-content/uploads/2024/05/Shannon-Pond.jpg
END:VEVENT
BEGIN:VEVENT
DTSTART;TZID=America/New_York:20250714T173000
DTEND;TZID=America/New_York:20250714T200000
DTSTAMP:20260424T050027
CREATED:20250516T174124Z
LAST-MODIFIED:20250516T174124Z
UID:10005775-1752514200-1752523200@www.castleintheclouds.org
SUMMARY:Music Nights
DESCRIPTION:
URL:https://www.castleintheclouds.org/event/music-nights/2025-07-14/
CATEGORIES:Music Nights
END:VEVENT
BEGIN:VEVENT
DTSTART;TZID=America/New_York:20250715T173000
DTEND;TZID=America/New_York:20250715T200000
DTSTAMP:20260424T050027
CREATED:20250710T153449Z
LAST-MODIFIED:20250710T153553Z
UID:10005776-1752600600-1752609600@www.castleintheclouds.org
SUMMARY:Music Nights - SOLD OUT
DESCRIPTION:
URL:https://www.castleintheclouds.org/event/music-nights-6/
CATEGORIES:Music Nights,Nighttime
END:VEVENT
BEGIN:VEVENT
DTSTART;TZID=America/New_York:20250716T173000
DTEND;TZID=America/New_York:20250716T200000
DTSTAMP:20260424T050027
CREATED:20250516T174124Z
LAST-MODIFIED:20250516T174124Z
UID:10005777-1752687000-1752696000@www.castleintheclouds.org
SUMMARY:Music Nights
DESCRIPTION:
URL:https://www.castleintheclouds.org/event/music-nights/2025-07-16/
CATEGORIES:Music Nights
END:VEVENT
BEGIN:VEVENT
DTSTART;TZID=America/New_York:20250718T101500
DTEND;TZID=America/New_York:20250718T111500
DTSTAMP:20260424T050027
CREATED:20250304T000837Z
LAST-MODIFIED:20250903T154227Z
UID:10004766-1752833700-1752837300@www.castleintheclouds.org
SUMMARY:Lucknow Garden Tour
DESCRIPTION:Join our head gardener\, Gretchen Large\, in touring Lucknow’s garden landscapes\, and pick up some gardening tips and tricks for you to use at home!  Gretchen is excited to share with you her passion for gardening\, which is displayed in the beautiful and thoughtfully designed outdoor spaces surrounding the Castle. She even has her own business called The Random Gardener! \nThe gardens are constantly changing throughout the season\, and no two tours are the same. We invite you to come back multiple times – there is always something new to see! \nThis tour includes walking through our gardens. Please dress for the weather and wear appropriate footwear. \nPlease arrive five minutes early to check in at the Carriage House. Froma there\, you will be transported up to Lucknow Mansion for the tour.  \nAll ticket sales are final; no refunds\, transfers to other days\, or exchanges. 
URL:https://www.castleintheclouds.org/event/lucknow-garden-tour-2/2025-07-18/
CATEGORIES:Education,Lucknow Garden Tour,Outdoors,Tours
END:VEVENT
END:VCALENDAR