BEGIN:VCALENDAR
VERSION:2.0
PRODID:-//Castle in the Clouds - ECPv6.15.18//NONSGML v1.0//EN
CALSCALE:GREGORIAN
METHOD:PUBLISH
X-WR-CALNAME:Castle in the Clouds
X-ORIGINAL-URL:https://www.castleintheclouds.org
X-WR-CALDESC:Events for Castle in the Clouds
REFRESH-INTERVAL;VALUE=DURATION:PT1H
X-Robots-Tag:noindex
X-PUBLISHED-TTL:PT1H
BEGIN:VTIMEZONE
TZID:America/New_York
BEGIN:DAYLIGHT
TZOFFSETFROM:-0500
TZOFFSETTO:-0400
TZNAME:EDT
DTSTART:20240310T070000
END:DAYLIGHT
BEGIN:STANDARD
TZOFFSETFROM:-0400
TZOFFSETTO:-0500
TZNAME:EST
DTSTART:20241103T060000
END:STANDARD
BEGIN:DAYLIGHT
TZOFFSETFROM:-0500
TZOFFSETTO:-0400
TZNAME:EDT
DTSTART:20250309T070000
END:DAYLIGHT
BEGIN:STANDARD
TZOFFSETFROM:-0400
TZOFFSETTO:-0500
TZNAME:EST
DTSTART:20251102T060000
END:STANDARD
BEGIN:DAYLIGHT
TZOFFSETFROM:-0500
TZOFFSETTO:-0400
TZNAME:EDT
DTSTART:20260308T070000
END:DAYLIGHT
BEGIN:STANDARD
TZOFFSETFROM:-0400
TZOFFSETTO:-0500
TZNAME:EST
DTSTART:20261101T060000
END:STANDARD
END:VTIMEZONE
BEGIN:VEVENT
DTSTART;TZID=America/New_York:20250825T110000
DTEND;TZID=America/New_York:20250825T120000
DTSTAMP:20260420T054430
CREATED:20250225T204514Z
LAST-MODIFIED:20250304T003918Z
UID:10004665-1756119600-1756123200@www.castleintheclouds.org
SUMMARY:Story Time and Craft Hour
DESCRIPTION:Castle in the Clouds is partnering with the Moultonborough Public Library to bring you Story Time and Craft Hour at Castle in the Clouds! \nJoin us on Mondays throughout the summer to hear stories relating to a different theme each week\, followed by a guided craft project. \nThis program will be held at the picnic pavilions near Shannon Pond. In case of inclement weather\, it will be moved to the Winnipesaukee Room on the second floor of the Carriage House. \nThis is a free program and registration is encouraged\, as it helps us plan craft supplies\, but is not required.
URL:https://www.castleintheclouds.org/event/story-time-and-craft-hour-2025/2025-08-25/
CATEGORIES:Arts,Story Time and Craft Hour
ATTACH;FMTTYPE=image/jpeg:https://www.castleintheclouds.org/wp-content/uploads/2024/05/Shannon-Pond.jpg
END:VEVENT
BEGIN:VEVENT
DTSTART;TZID=America/New_York:20250825T173000
DTEND;TZID=America/New_York:20250825T200000
DTSTAMP:20260420T054430
CREATED:20250516T174124Z
LAST-MODIFIED:20250516T174124Z
UID:10005793-1756143000-1756152000@www.castleintheclouds.org
SUMMARY:Music Nights
DESCRIPTION:
URL:https://www.castleintheclouds.org/event/music-nights/2025-08-25/
CATEGORIES:Music Nights
END:VEVENT
BEGIN:VEVENT
DTSTART;TZID=America/New_York:20250826T173000
DTEND;TZID=America/New_York:20250826T200000
DTSTAMP:20260420T054430
CREATED:20250516T174124Z
LAST-MODIFIED:20250516T174124Z
UID:10005794-1756229400-1756238400@www.castleintheclouds.org
SUMMARY:Music Nights
DESCRIPTION:
URL:https://www.castleintheclouds.org/event/music-nights/2025-08-26/
CATEGORIES:Music Nights
END:VEVENT
BEGIN:VEVENT
DTSTART;TZID=America/New_York:20250827T173000
DTEND;TZID=America/New_York:20250827T200000
DTSTAMP:20260420T054430
CREATED:20250516T174124Z
LAST-MODIFIED:20250516T174124Z
UID:10005795-1756315800-1756324800@www.castleintheclouds.org
SUMMARY:Music Nights
DESCRIPTION:
URL:https://www.castleintheclouds.org/event/music-nights/2025-08-27/
CATEGORIES:Music Nights
END:VEVENT
BEGIN:VEVENT
DTSTART;TZID=America/New_York:20250829T101500
DTEND;TZID=America/New_York:20250829T111500
DTSTAMP:20260420T054430
CREATED:20250304T000837Z
LAST-MODIFIED:20250903T154227Z
UID:10004771-1756462500-1756466100@www.castleintheclouds.org
SUMMARY:Lucknow Garden Tour
DESCRIPTION:Join our head gardener\, Gretchen Large\, in touring Lucknow’s garden landscapes\, and pick up some gardening tips and tricks for you to use at home!  Gretchen is excited to share with you her passion for gardening\, which is displayed in the beautiful and thoughtfully designed outdoor spaces surrounding the Castle. She even has her own business called The Random Gardener! \nThe gardens are constantly changing throughout the season\, and no two tours are the same. We invite you to come back multiple times – there is always something new to see! \nThis tour includes walking through our gardens. Please dress for the weather and wear appropriate footwear. \nPlease arrive five minutes early to check in at the Carriage House. Froma there\, you will be transported up to Lucknow Mansion for the tour.  \nAll ticket sales are final; no refunds\, transfers to other days\, or exchanges. 
URL:https://www.castleintheclouds.org/event/lucknow-garden-tour-2/2025-08-29/
CATEGORIES:Education,Lucknow Garden Tour,Outdoors,Tours
END:VEVENT
BEGIN:VEVENT
DTSTART;TZID=America/New_York:20250829T170000
DTEND;TZID=America/New_York:20250829T223000
DTSTAMP:20260420T054430
CREATED:20250407T200845Z
LAST-MODIFIED:20250729T145238Z
UID:10005693-1756486800-1756506600@www.castleintheclouds.org
SUMMARY:The Decades Party Annual Summer Gala
DESCRIPTION:August 29\, 2025\n5:00pm – 10:30pm • Tickets $180 \nYou are invited to our annual fundraising gala where you’ll enjoy music and dancing\, an open bar\, and Common Man cuisine! \nGet ready to party through the decades at this ultimate end-of-summer bash! Travel back in time with renowned DJ Shelley who will be spinning the original hits we enjoyed all those years ago\, interlaced with live Doo-Wap singers. In addition to enjoying cocktails on the Lucknow lawn\, a custom Common Man served buffet\, and open bar; come ready to bid on unique Castle experiences during our live auction! \nThis end-of-summer bash\, held under the Great Waters Tent\, will celebrate the iconic eras of the ‘50s\, ‘60s and ‘70s. You’re encouraged to dress for your favorite decade and be prepared to dance the night away at this groovy soiree all while supporting restoration at Castle in the Clouds! \nDon’t miss this end-of-summer sendoff. Tickets are limited. Reserve yours TODAY!
URL:https://www.castleintheclouds.org/event/the-decades-party-annual-summer-gala/
ATTACH;FMTTYPE=image/jpeg:https://www.castleintheclouds.org/wp-content/uploads/2025/04/250401-Decades-Party-LANDING-PAGE-1920x600-FINAL.jpg
END:VEVENT
BEGIN:VEVENT
DTSTART;TZID=America/New_York:20250831T110000
DTEND;TZID=America/New_York:20250831T150000
DTSTAMP:20260420T054430
CREATED:20250515T011001Z
LAST-MODIFIED:20250515T011001Z
UID:10005805-1756638000-1756652400@www.castleintheclouds.org
SUMMARY:Expert Exchanges: Furniture
DESCRIPTION:
URL:https://www.castleintheclouds.org/event/expert-exchanges-furniture/2025-08-31/
CATEGORIES:Expert Exchanges: Furniture
END:VEVENT
BEGIN:VEVENT
DTSTART;TZID=America/New_York:20250831T110000
DTEND;TZID=America/New_York:20250831T160000
DTSTAMP:20260420T054430
CREATED:20250318T153726Z
LAST-MODIFIED:20260315T043453Z
UID:10004844-1756638000-1756656000@www.castleintheclouds.org
SUMMARY:Solar Gazing 2025
DESCRIPTION:Disobey your mother and look at the sun…through a hydrogen-alpha telescope! Each Sunday\, members of the NH Astronomical Society set up their telescopes in the field by Shannon Pond. Drop by and speak with the astronomers\, learn about the sun\, and try out their telescopes anytime between 11:00 am and 4:00 pm. \nSolar Gazing requires clear skies. In the event that it is raining or overcast\, there will be an opportunity to chat with the astronomers in the Winnipesaukee Room on the second floor of the Carriage House instead. \nThis is a free program and registration is encouraged but not required.
URL:https://www.castleintheclouds.org/event/solar-gazing-2025/2025-08-31/
CATEGORIES:Outdoors,Solar Gazing
ATTACH;FMTTYPE=image/jpeg:https://www.castleintheclouds.org/wp-content/uploads/2020/04/Solar-Gazing.jpg
END:VEVENT
BEGIN:VEVENT
DTSTART;TZID=America/New_York:20250901T173000
DTEND;TZID=America/New_York:20250901T200000
DTSTAMP:20260420T054430
CREATED:20250516T174124Z
LAST-MODIFIED:20250516T174124Z
UID:10005796-1756747800-1756756800@www.castleintheclouds.org
SUMMARY:Music Nights
DESCRIPTION:
URL:https://www.castleintheclouds.org/event/music-nights/2025-09-01/
CATEGORIES:Music Nights
END:VEVENT
BEGIN:VEVENT
DTSTART;TZID=America/New_York:20250902T173000
DTEND;TZID=America/New_York:20250902T200000
DTSTAMP:20260420T054430
CREATED:20250516T174124Z
LAST-MODIFIED:20250516T174124Z
UID:10005797-1756834200-1756843200@www.castleintheclouds.org
SUMMARY:Music Nights
DESCRIPTION:
URL:https://www.castleintheclouds.org/event/music-nights/2025-09-02/
CATEGORIES:Music Nights
END:VEVENT
BEGIN:VEVENT
DTSTART;TZID=America/New_York:20250903T173000
DTEND;TZID=America/New_York:20250903T200000
DTSTAMP:20260420T054430
CREATED:20250516T174124Z
LAST-MODIFIED:20250516T174124Z
UID:10005798-1756920600-1756929600@www.castleintheclouds.org
SUMMARY:Music Nights
DESCRIPTION:
URL:https://www.castleintheclouds.org/event/music-nights/2025-09-03/
CATEGORIES:Music Nights
END:VEVENT
BEGIN:VEVENT
DTSTART;TZID=America/New_York:20250904T130000
DTEND;TZID=America/New_York:20250904T143000
DTSTAMP:20260420T054430
CREATED:20250317T192908Z
LAST-MODIFIED:20250318T132544Z
UID:10004811-1756990800-1756996200@www.castleintheclouds.org
SUMMARY:Volcanoes and Cellar Holes: the History of the Land
DESCRIPTION:Join us for a walk on the property surrounding the Castle to discover how nature and people have shaped it throughout the years!  We’ll discuss the site’s long history\, from its geological activity 100 million years ago\, the historic cellar holes surrounding the estate\, Tom and Olive Plant’s transformations\, and the current stewardship of the almost 5\,000 acres surrounding the Castle. \nPlease be aware that this tour will last approximately 90 minute and involves walking outdoors\, including slight inclines and uneven ground. Please wear appropriate footwear\, dress for the weather\, and bring sunscreen and bug spray as desired. \nAll ticket sales are final; no refunds\, transfers to other days\, or exchanges.
URL:https://www.castleintheclouds.org/event/volcanoes-and-cellar-holes-the-history-of-the-land/2025-09-04/
CATEGORIES:Outdoors,Tours,Volcanoes and Cellar Holes: the History of Ossipee Park
END:VEVENT
BEGIN:VEVENT
DTSTART;TZID=America/New_York:20250904T170000
DTEND;TZID=America/New_York:20250904T183000
DTSTAMP:20260420T054430
CREATED:20250514T154459Z
LAST-MODIFIED:20250514T154459Z
UID:10005801-1757005200-1757010600@www.castleintheclouds.org
SUMMARY:Furniture Masters: Exhibit Opening
DESCRIPTION:
URL:https://www.castleintheclouds.org/event/furniture-masters-exhibit-opening/2025-09-04/
CATEGORIES:Furniture Masters: Exhibit Opening
END:VEVENT
BEGIN:VEVENT
DTSTART;TZID=America/New_York:20250906T093000
DTEND;TZID=America/New_York:20250906T103000
DTSTAMP:20260420T054430
CREATED:20250304T000837Z
LAST-MODIFIED:20250903T154227Z
UID:10005818-1757151000-1757154600@www.castleintheclouds.org
SUMMARY:Lucknow Garden Tour
DESCRIPTION:Join our head gardener\, Gretchen Large\, in touring Lucknow’s garden landscapes\, and pick up some gardening tips and tricks for you to use at home!  Gretchen is excited to share with you her passion for gardening\, which is displayed in the beautiful and thoughtfully designed outdoor spaces surrounding the Castle. She even has her own business called The Random Gardener! \nThe gardens are constantly changing throughout the season\, and no two tours are the same. We invite you to come back multiple times – there is always something new to see! \nThis tour includes walking through our gardens. Please dress for the weather and wear appropriate footwear. \nPlease arrive five minutes early to check in at the Carriage House. Froma there\, you will be transported up to Lucknow Mansion for the tour.  \nAll ticket sales are final; no refunds\, transfers to other days\, or exchanges. 
URL:https://www.castleintheclouds.org/event/lucknow-garden-tour-2/2025-09-06/
CATEGORIES:Education,Lucknow Garden Tour,Outdoors,Tours
END:VEVENT
BEGIN:VEVENT
DTSTART;TZID=America/New_York:20250907T080000
DTEND;TZID=America/New_York:20250907T100000
DTSTAMP:20260420T054430
CREATED:20250317T173251Z
LAST-MODIFIED:20250818T165026Z
UID:10004799-1757232000-1757239200@www.castleintheclouds.org
SUMMARY:Bird Walk
DESCRIPTION:Grab your binoculars and get ready to look for and listen to birds! In this program\, you will explore the Castle property and some of its trails while encountering the wide array of birds found here. This bird watch is led by K. Klapper\, an experienced birder and co-author/editor of the book Birds of the Squam Lakes Region. \nBe prepared for a moderate walk on uneven terrain with frequent stops. Please bring your own binoculars\, wear appropriate footwear\, dress for the weather\, and bring sunscreen and bug spray as desired. \nAll ticket sales are final; no refunds\, transfers to other days\, or exchanges.
URL:https://www.castleintheclouds.org/event/bird-walk-2025/
CATEGORIES:Education,Outdoors
END:VEVENT
BEGIN:VEVENT
DTSTART;TZID=America/New_York:20250912T101500
DTEND;TZID=America/New_York:20250912T111500
DTSTAMP:20260420T054430
CREATED:20250304T000837Z
LAST-MODIFIED:20250903T154227Z
UID:10004772-1757672100-1757675700@www.castleintheclouds.org
SUMMARY:Lucknow Garden Tour
DESCRIPTION:Join our head gardener\, Gretchen Large\, in touring Lucknow’s garden landscapes\, and pick up some gardening tips and tricks for you to use at home!  Gretchen is excited to share with you her passion for gardening\, which is displayed in the beautiful and thoughtfully designed outdoor spaces surrounding the Castle. She even has her own business called The Random Gardener! \nThe gardens are constantly changing throughout the season\, and no two tours are the same. We invite you to come back multiple times – there is always something new to see! \nThis tour includes walking through our gardens. Please dress for the weather and wear appropriate footwear. \nPlease arrive five minutes early to check in at the Carriage House. Froma there\, you will be transported up to Lucknow Mansion for the tour.  \nAll ticket sales are final; no refunds\, transfers to other days\, or exchanges. 
URL:https://www.castleintheclouds.org/event/lucknow-garden-tour-2/2025-09-12/
CATEGORIES:Education,Lucknow Garden Tour,Outdoors,Tours
END:VEVENT
BEGIN:VEVENT
DTSTART;TZID=America/New_York:20250918T130000
DTEND;TZID=America/New_York:20250918T143000
DTSTAMP:20260420T054430
CREATED:20250317T192908Z
LAST-MODIFIED:20250318T132544Z
UID:10004812-1758200400-1758205800@www.castleintheclouds.org
SUMMARY:Volcanoes and Cellar Holes: the History of the Land
DESCRIPTION:Join us for a walk on the property surrounding the Castle to discover how nature and people have shaped it throughout the years!  We’ll discuss the site’s long history\, from its geological activity 100 million years ago\, the historic cellar holes surrounding the estate\, Tom and Olive Plant’s transformations\, and the current stewardship of the almost 5\,000 acres surrounding the Castle. \nPlease be aware that this tour will last approximately 90 minute and involves walking outdoors\, including slight inclines and uneven ground. Please wear appropriate footwear\, dress for the weather\, and bring sunscreen and bug spray as desired. \nAll ticket sales are final; no refunds\, transfers to other days\, or exchanges.
URL:https://www.castleintheclouds.org/event/volcanoes-and-cellar-holes-the-history-of-the-land/2025-09-18/
CATEGORIES:Outdoors,Tours,Volcanoes and Cellar Holes: the History of Ossipee Park
END:VEVENT
BEGIN:VEVENT
DTSTART;TZID=America/New_York:20250920T093000
DTEND;TZID=America/New_York:20250920T103000
DTSTAMP:20260420T054430
CREATED:20250304T000837Z
LAST-MODIFIED:20250903T154227Z
UID:10004773-1758360600-1758364200@www.castleintheclouds.org
SUMMARY:Lucknow Garden Tour
DESCRIPTION:Join our head gardener\, Gretchen Large\, in touring Lucknow’s garden landscapes\, and pick up some gardening tips and tricks for you to use at home!  Gretchen is excited to share with you her passion for gardening\, which is displayed in the beautiful and thoughtfully designed outdoor spaces surrounding the Castle. She even has her own business called The Random Gardener! \nThe gardens are constantly changing throughout the season\, and no two tours are the same. We invite you to come back multiple times – there is always something new to see! \nThis tour includes walking through our gardens. Please dress for the weather and wear appropriate footwear. \nPlease arrive five minutes early to check in at the Carriage House. Froma there\, you will be transported up to Lucknow Mansion for the tour.  \nAll ticket sales are final; no refunds\, transfers to other days\, or exchanges. 
URL:https://www.castleintheclouds.org/event/lucknow-garden-tour-2/2025-09-20/
CATEGORIES:Education,Lucknow Garden Tour,Outdoors,Tours
END:VEVENT
BEGIN:VEVENT
DTSTART;TZID=America/New_York:20250920T130000
DTEND;TZID=America/New_York:20250920T150000
DTSTAMP:20260420T054430
CREATED:20250301T024715Z
LAST-MODIFIED:20250304T002905Z
UID:10004735-1758373200-1758380400@www.castleintheclouds.org
SUMMARY:Creative Writing: Letting Nature Prompt You
DESCRIPTION:Get in touch with your inner creativity\, inspired by the natural beauty of Castle in the Clouds! Ever let nature soothe you\, inform\, prompt\, even consume you for a half hour or an hour? In this workshop\, you can do just that. We will use directed prompts\, journal writing\, and poetry to help us experience the natural world and its gifts. We will spend our time walking slowly\, sitting in stillness\, and stopping at special sights that call to you along the Brook Trail.  \nThis workshop involves moderate hiking. No writing experience is necessary\, but a willingness to play and explore is. Please bring a small notepad and pencil or cell phone that records\, dress for the weather\, and wear appropriate footwear. You might consider bringing a hat\, bug repellent\, and a small cushion to sit on. \nAll ticket sales are final; no refunds\, transfers to other days\, or exchanges.
URL:https://www.castleintheclouds.org/event/creative-writing-letting-nature-prompt-you/
CATEGORIES:Arts,Outdoors
ATTACH;FMTTYPE=image/jpeg:https://www.castleintheclouds.org/wp-content/uploads/2020/11/Photo-Contest-Cover-for-web-scaled.jpg
END:VEVENT
BEGIN:VEVENT
DTSTART;TZID=America/New_York:20250926T101500
DTEND;TZID=America/New_York:20250926T111500
DTSTAMP:20260420T054430
CREATED:20250304T000837Z
LAST-MODIFIED:20250903T154227Z
UID:10004774-1758881700-1758885300@www.castleintheclouds.org
SUMMARY:Lucknow Garden Tour
DESCRIPTION:Join our head gardener\, Gretchen Large\, in touring Lucknow’s garden landscapes\, and pick up some gardening tips and tricks for you to use at home!  Gretchen is excited to share with you her passion for gardening\, which is displayed in the beautiful and thoughtfully designed outdoor spaces surrounding the Castle. She even has her own business called The Random Gardener! \nThe gardens are constantly changing throughout the season\, and no two tours are the same. We invite you to come back multiple times – there is always something new to see! \nThis tour includes walking through our gardens. Please dress for the weather and wear appropriate footwear. \nPlease arrive five minutes early to check in at the Carriage House. Froma there\, you will be transported up to Lucknow Mansion for the tour.  \nAll ticket sales are final; no refunds\, transfers to other days\, or exchanges. 
URL:https://www.castleintheclouds.org/event/lucknow-garden-tour-2/2025-09-26/
CATEGORIES:Education,Lucknow Garden Tour,Outdoors,Tours
END:VEVENT
BEGIN:VEVENT
DTSTART;TZID=America/New_York:20250927T083000
DTEND;TZID=America/New_York:20250927T110000
DTSTAMP:20260420T054430
CREATED:20250628T172712Z
LAST-MODIFIED:20250628T172712Z
UID:10005809-1758961800-1758970800@www.castleintheclouds.org
SUMMARY:Be A Hero 5k Run/Walk
DESCRIPTION:
URL:https://runsignup.com/Race/NH/Moultonborough/Hero#new_tab
ATTACH;FMTTYPE=image/png:https://www.castleintheclouds.org/wp-content/uploads/2025/06/humane-society-hero-walk.png
END:VEVENT
BEGIN:VEVENT
DTSTART;TZID=America/New_York:20250928T110000
DTEND;TZID=America/New_York:20250928T150000
DTSTAMP:20260420T054430
CREATED:20250515T011001Z
LAST-MODIFIED:20250515T011001Z
UID:10005806-1759057200-1759071600@www.castleintheclouds.org
SUMMARY:Expert Exchanges: Furniture
DESCRIPTION:
URL:https://www.castleintheclouds.org/event/expert-exchanges-furniture/2025-09-28/
CATEGORIES:Expert Exchanges: Furniture
END:VEVENT
BEGIN:VEVENT
DTSTART;TZID=America/New_York:20250928T130000
DTEND;TZID=America/New_York:20250928T143000
DTSTAMP:20260420T054430
CREATED:20250323T174715Z
LAST-MODIFIED:20250325T215823Z
UID:10005591-1759064400-1759069800@www.castleintheclouds.org
SUMMARY:Wildcrafting: Herbal Tea
DESCRIPTION:Unlock the potential of the world of wild herbs by tapping into ancient roots! Join instructor Mj Pettengill\, who will introduce you to helpful tools\, guides\, and apps for plant identification\, ensuring you can safely navigate the wild. Familiarity with local flora is essential\, as it helps you avoid dangerous look-alikes. Additionally\, we’ll discuss endangered\, threatened\, or sensitive species\, highlighting the importance of responsible foraging. Throughout our exploration\, we’ll cover essential topics: plant preparation\, drying\, storage\, crushing\, and the decision-making process of when to use fresh versus dried herbs. \nDoing this presentation\, you will have an opportunity to sample different herbal teas. \nSpace is limited to 20 people in order to give Mj a chance to work with all the participants. Register today to reserve your seat!
URL:https://www.castleintheclouds.org/event/wildcrafting-herbal-tea/2025-09-28/1/
CATEGORIES:Education,Outdoors,Wildcrafting: Herbal Tea
END:VEVENT
BEGIN:VEVENT
DTSTART;TZID=America/New_York:20250928T160000
DTEND;TZID=America/New_York:20250928T173000
DTSTAMP:20260420T054430
CREATED:20250323T174715Z
LAST-MODIFIED:20250325T215823Z
UID:10005592-1759075200-1759080600@www.castleintheclouds.org
SUMMARY:Wildcrafting: Herbal Tea
DESCRIPTION:Unlock the potential of the world of wild herbs by tapping into ancient roots! Join instructor Mj Pettengill\, who will introduce you to helpful tools\, guides\, and apps for plant identification\, ensuring you can safely navigate the wild. Familiarity with local flora is essential\, as it helps you avoid dangerous look-alikes. Additionally\, we’ll discuss endangered\, threatened\, or sensitive species\, highlighting the importance of responsible foraging. Throughout our exploration\, we’ll cover essential topics: plant preparation\, drying\, storage\, crushing\, and the decision-making process of when to use fresh versus dried herbs. \nDoing this presentation\, you will have an opportunity to sample different herbal teas. \nSpace is limited to 20 people in order to give Mj a chance to work with all the participants. Register today to reserve your seat!
URL:https://www.castleintheclouds.org/event/wildcrafting-herbal-tea/2025-09-28/2/
CATEGORIES:Education,Outdoors,Wildcrafting: Herbal Tea
END:VEVENT
BEGIN:VEVENT
DTSTART;TZID=America/New_York:20251006T170000
DTEND;TZID=America/New_York:20251006T180000
DTSTAMP:20260420T054430
CREATED:20250919T010714Z
LAST-MODIFIED:20250919T010847Z
UID:10005819-1759770000-1759773600@www.castleintheclouds.org
SUMMARY:Fall Yoga in the Winnipesaukee Room
DESCRIPTION:
URL:https://www.castleintheclouds.org/event/fall-yoga-in-the-winnipesaukee-room/2025-10-06/
CATEGORIES:Fall Yoga in the Winnipesaukee Room,Wellness
ATTACH;FMTTYPE=image/png:https://www.castleintheclouds.org/wp-content/uploads/2025/09/pamela-swanick-yoga.png
END:VEVENT
BEGIN:VEVENT
DTSTART;TZID=America/New_York:20251009T173000
DTEND;TZID=America/New_York:20251009T203000
DTSTAMP:20260420T054430
CREATED:20250325T220438Z
LAST-MODIFIED:20250327T162115Z
UID:10005634-1760031000-1760041800@www.castleintheclouds.org
SUMMARY:Castle Sunset Tours
DESCRIPTION:Enjoy the rare opportunity to tour the Lucknow Mansion at a time when the estate goes quiet\, the sun sets behind the mountains\, and the stars fill the sky! Relax with drinks and hors d’oeuvres in the Carriage House and explore the mansion at your leisure through a self-guided tour.  \nLight appetizers and one drink of choice (beer\, wine\, or soft drink) are included in the price of admission.
URL:https://www.castleintheclouds.org/event/castle-sunset-tours-2025/2025-10-09/
CATEGORIES:Castle Sunset Tour,Food & Drink,Nighttime,Outdoors,Tours
ATTACH;FMTTYPE=image/jpeg:https://www.castleintheclouds.org/wp-content/uploads/2019/04/Sunset-behind-Carriage-House-10.5.18.jpg
END:VEVENT
BEGIN:VEVENT
DTSTART;TZID=America/New_York:20251013T120000
DTEND;TZID=America/New_York:20251013T140000
DTSTAMP:20260420T054430
CREATED:20250317T190927Z
LAST-MODIFIED:20260315T054326Z
UID:10004804-1760356800-1760364000@www.castleintheclouds.org
SUMMARY:Watercolor Workshop 2025
DESCRIPTION:Join us for an afternoon of watercolor painting at one of the most beautiful locations in New Hampshire! \nThis workshop\, led by our experienced instructor Pat Edsall\, is perfect for all experience levels. Whether you are a beginner artist or have experience painting with watercolor\, there is always something new to learn. This is an opportunity to paint from a new point of view and learn new techniques. \nWe will work with professional transparent pigments and beautiful 100% cotton paper. If you wish\, bring your favorite brushes\, but all necessary supplies will be provided. Invite your friends\, or come meet new artists! \nThis class is intended for adults. Space is limited to 10 people in order to give Pat a chance to work with all the participants. Register today to reserve your seat! \nAll ticket sales are final; no refunds\, transfers to other days\, or exchanges.
URL:https://www.castleintheclouds.org/event/watercolor-workshop-2025/2025-10-13/
CATEGORIES:Arts,Education,Watercolor Workshop
ATTACH;FMTTYPE=image/jpeg:https://www.castleintheclouds.org/wp-content/uploads/2023/07/Watercolor_Evt_banner_4621.jpg
END:VEVENT
BEGIN:VEVENT
DTSTART;TZID=America/New_York:20251016T173000
DTEND;TZID=America/New_York:20251016T203000
DTSTAMP:20260420T054430
CREATED:20250325T220438Z
LAST-MODIFIED:20250327T162115Z
UID:10005635-1760635800-1760646600@www.castleintheclouds.org
SUMMARY:Castle Sunset Tours
DESCRIPTION:Enjoy the rare opportunity to tour the Lucknow Mansion at a time when the estate goes quiet\, the sun sets behind the mountains\, and the stars fill the sky! Relax with drinks and hors d’oeuvres in the Carriage House and explore the mansion at your leisure through a self-guided tour.  \nLight appetizers and one drink of choice (beer\, wine\, or soft drink) are included in the price of admission.
URL:https://www.castleintheclouds.org/event/castle-sunset-tours-2025/2025-10-16/
CATEGORIES:Castle Sunset Tour,Food & Drink,Nighttime,Outdoors,Tours
ATTACH;FMTTYPE=image/jpeg:https://www.castleintheclouds.org/wp-content/uploads/2019/04/Sunset-behind-Carriage-House-10.5.18.jpg
END:VEVENT
BEGIN:VEVENT
DTSTART;TZID=America/New_York:20251020T170000
DTEND;TZID=America/New_York:20251020T180000
DTSTAMP:20260420T054430
CREATED:20250919T010714Z
LAST-MODIFIED:20250919T010847Z
UID:10005820-1760979600-1760983200@www.castleintheclouds.org
SUMMARY:Fall Yoga in the Winnipesaukee Room
DESCRIPTION:
URL:https://www.castleintheclouds.org/event/fall-yoga-in-the-winnipesaukee-room/2025-10-20/
CATEGORIES:Fall Yoga in the Winnipesaukee Room,Wellness
ATTACH;FMTTYPE=image/png:https://www.castleintheclouds.org/wp-content/uploads/2025/09/pamela-swanick-yoga.png
END:VEVENT
BEGIN:VEVENT
DTSTART;TZID=America/New_York:20251115T110000
DTEND;TZID=America/New_York:20251115T123000
DTSTAMP:20260420T054430
CREATED:20250225T201838Z
LAST-MODIFIED:20250225T225558Z
UID:10004570-1763204400-1763209800@www.castleintheclouds.org
SUMMARY:Candle-Making Workshop
DESCRIPTION:Join Bewitched Acres at Castle in the Clouds to make your own beeswax candles! Participants will make and decorate 4 rolled beeswax candles (2 taper candles and 2 tree candles) to take home. Beekeeper Samantha Stevens will lead you through the candle-making process\, as well as share information about bees along the way.  \nThis workshop is intended for ages 16 and up. Space is limited so be sure to register today. \nAll ticket sales are final; no refunds\, transfers to other days\, or exchanges.
URL:https://www.castleintheclouds.org/event/candle-making-workshop-2025/2025-11-15/1/
CATEGORIES:Arts,Candle-Making Workshop
END:VEVENT
END:VCALENDAR